BEGIN:VCALENDAR
VERSION:2.0
PRODID:-//ChamberMaster//Event Calendar 2.0//EN
METHOD:PUBLISH
X-PUBLISHED-TTL:P3D
REFRESH-INTERVAL:P3D
CALSCALE:GREGORIAN
BEGIN:VEVENT
DTSTART:20260516T163000Z
DTEND:20260516T200000Z
X-MICROSOFT-CDO-ALLDAYEVENT:FALSE
SUMMARY:Ride for the Pass
DESCRIPTION:Ride for the Pass 2026 is a beloved early-season cycling event that gives riders a rare opportunity to climb Independence Pass before it opens to vehicle traffic. Held on Saturday\, May 16\, 2026\, the ride starts at the winter gate outside Aspen and offers both a timed 10-mile climb to the historic Independence ghost town and a shorter\, family-friendly option to Weller Lake. With a fully supported course\, stunning alpine scenery\, and a festive post-ride barbecue and raffle\, the event blends competition\, community\, and celebration. Proceeds benefit the Independence Pass Foundation\, helping preserve and protect this iconic Colorado landscape
X-ALT-DESC;FMTTYPE=text/html:Ride for the Pass 2026 is a beloved early-season cycling event that gives riders a rare opportunity to climb Independence Pass before it opens to vehicle traffic. Held on Saturday\, May 16\, 2026\, the ride starts at the winter gate outside Aspen and offers both a timed 10-mile climb to the historic Independence ghost town and a shorter\, family-friendly option to Weller Lake. With a fully supported course\, stunning alpine scenery\, and a festive post-ride barbecue and raffle\, the event blends competition\, community\, and celebration. Proceeds benefit the Independence Pass Foundation\, helping preserve and protect this iconic Colorado landscape
LOCATION:Independence Pass Winter Gate
UID:e.221.37427
SEQUENCE:3
DTSTAMP:20260422T220401Z
URL:https://business.basaltchamber.org/events/details/ride-for-the-pass-05-16-2026-37427
END:VEVENT

END:VCALENDAR
