BEGIN:VCALENDAR
VERSION:2.0
PRODID:-//ChamberMaster//Event Calendar 2.0//EN
METHOD:PUBLISH
X-PUBLISHED-TTL:P3D
REFRESH-INTERVAL:P3D
CALSCALE:GREGORIAN
BEGIN:VEVENT
DTSTART:20260502T220000Z
DTEND:20260503T000000Z
X-MICROSOFT-CDO-ALLDAYEVENT:FALSE
SUMMARY:What Could Be: Shamanic Visioning for Clarity\, Alignment & Next Chapter
DESCRIPTION:Receive direct vision from your Soul & Spirit Guides with a grounded Shamanic Journey. No plant medicine - just ability to listen within. Many of us spend years healing the past while worrying about what lies ahead - for yourself and humanity. Eventually a deeper question begins to emerge: What's next? What's now possible? Beyond mental problem-solving\, "figuring it out" and the noise of the world lies a deeper vision for our lives - and the future we are here to help create. For centuries\, visionary practices in shamanic traditions have helped spiritually attuned souls step outside everyday thinking and receive guidance directly from the deeper intelligence of the soul and Spirit. In this experiential workshop\, modern shaman & spiritual mentor Meghan Gilroy will guide you through a grounded shamanic journey designed to help you access clear insight about your life direction\, your work path\, and the role you feel called to play in shaping the future. Unlike psychedelic or substance-based approaches\, this work is rooted in sobriety\, self-mastery\, and personal sovereignty. You remain fully present while learning how to access powerful intuitive guidance that already exists within you. During this guided shamanic visioning journey\, you will: Enter a shamanic state to receive a vision for the next chapter of your life or work Identify what may be blocking your guidance and direction Reconnect with your inner knowing\, visionary capacity\, and Spirit Guides Clarify the role you feel called to play in the future you want to help create Leave with one clear next step you can use for decision-making and forward movement This experience is ideal for seekers\, coaches\, healers\, and anyone who senses that something new is trying to emerge in their life - and wants deeper clarity about what that next chapter could be. No plant medicines required just your natural ability to listen within.
X-ALT-DESC;FMTTYPE=text/html:Receive direct vision from your Soul &amp\; Spirit Guides with a grounded Shamanic Journey. No plant medicine - just ability to listen within. Many of us spend years healing the past while worrying about what lies ahead - for yourself and humanity. Eventually a deeper question begins to emerge: What&rsquo\;s next? What&rsquo\;s now possible? Beyond mental problem-solving\, &quot\;figuring it out&rdquo\; and the noise of the world lies a deeper vision for our lives - and the future we are here to help create. For centuries\, visionary practices in shamanic traditions have helped spiritually attuned souls step outside everyday thinking and receive guidance directly from the deeper intelligence of the soul and Spirit. In this experiential workshop\, modern shaman &amp\; spiritual mentor Meghan Gilroy will guide you through a grounded shamanic journey designed to help you access clear insight about your life direction\, your work path\, and the role you feel called to play in shaping the future. Unlike psychedelic or substance-based approaches\, this work is rooted in sobriety\, self-mastery\, and personal sovereignty. You remain fully present while learning how to access powerful intuitive guidance that already exists within you. During this guided shamanic visioning journey\, you will: Enter a shamanic state to receive a vision for the next chapter of your life or work Identify what may be blocking your guidance and direction Reconnect with your inner knowing\, visionary capacity\, and Spirit Guides Clarify the role you feel called to play in the future you want to help create Leave with one clear next step you can use for decision-making and forward movement This experience is ideal for seekers\, coaches\, healers\, and anyone who senses that something new is trying to emerge in their life - and wants deeper clarity about what that next chapter could be. No plant medicines required&mdash\;just your natural ability to listen within.
LOCATION:True Nature Healing Arts 100 North 3rd Street Carbondale\, CO 81623
UID:e.221.37426
SEQUENCE:3
DTSTAMP:20260421T205827Z
URL:https://business.basaltchamber.org/events/details/what-could-be-shamanic-visioning-for-clarity-alignment-next-chapter-37426
END:VEVENT

END:VCALENDAR
